BEGIN:VCALENDAR
VERSION:2.0
PRODID:-//Toronto Knitters Guild - ECPv6.15.20//NONSGML v1.0//EN
CALSCALE:GREGORIAN
METHOD:PUBLISH
X-WR-CALNAME:Toronto Knitters Guild
X-ORIGINAL-URL:https://torontoknittersguild.ca
X-WR-CALDESC:Events for Toronto Knitters Guild
REFRESH-INTERVAL;VALUE=DURATION:PT1H
X-Robots-Tag:noindex
X-PUBLISHED-TTL:PT1H
BEGIN:VTIMEZONE
TZID:America/Toronto
BEGIN:DAYLIGHT
TZOFFSETFROM:-0500
TZOFFSETTO:-0400
TZNAME:EDT
DTSTART:20190310T070000
END:DAYLIGHT
BEGIN:STANDARD
TZOFFSETFROM:-0400
TZOFFSETTO:-0500
TZNAME:EST
DTSTART:20191103T060000
END:STANDARD
BEGIN:DAYLIGHT
TZOFFSETFROM:-0500
TZOFFSETTO:-0400
TZNAME:EDT
DTSTART:20200308T070000
END:DAYLIGHT
BEGIN:STANDARD
TZOFFSETFROM:-0400
TZOFFSETTO:-0500
TZNAME:EST
DTSTART:20201101T060000
END:STANDARD
BEGIN:DAYLIGHT
TZOFFSETFROM:-0500
TZOFFSETTO:-0400
TZNAME:EDT
DTSTART:20210314T070000
END:DAYLIGHT
BEGIN:STANDARD
TZOFFSETFROM:-0400
TZOFFSETTO:-0500
TZNAME:EST
DTSTART:20211107T060000
END:STANDARD
END:VTIMEZONE
BEGIN:VEVENT
DTSTART;TZID=America/Toronto:20201028T193000
DTEND;TZID=America/Toronto:20201028T210000
DTSTAMP:20260423T000922
CREATED:20201012T160647Z
LAST-MODIFIED:20201014T205122Z
UID:4344-1603913400-1603918800@torontoknittersguild.ca
SUMMARY:Annual General Meeting
DESCRIPTION:Please join us for our online AGM\, open to all 2019-20 and/or 2020-21 members of the Toronto Knitters Guild. \nThis AGM is related to the first year of incorporation which ended January 31\, 2020. Due to the COVID-19 Pandemic\, Corporations Canada gave us some leeway in scheduling this meeting\, and in our case extended the usual deadline to December 31\, 2020. \nDates & Deadlines\nNominations due – Wednesday\, October 7\, 2020\, 5:00 pm\nSubmission of questions and member proposed modifications to bylaws due – Wednesday\, October 21\, 2020\nVoting packages sent by email to all members – Wednesday\, October 21\, 2020\nAnnual General Meeting and Voting via Zoom – Wednesday\, October 28\, 2020\, 7:30 pm \nQuestions and Member-proposed Revisions to Bylaws \nWhere possible\, we ask that members submit any questions for the Board or any member of the Board no later than Wednesday\, October 21. You will also have the ability to submit questions via Zoom during the meeting. If you\, a member\, would like to propose a modification to the Bylaws\, we ask that also be submitted no later than Wednesday\, October 21\, so we can prepare for voting.  In both cases\, submissions should be made by email to president [at] torontoknittersguild.ca.
URL:https://torontoknittersguild.ca/event/annual-general-members/
LOCATION:Online via Videoconference
CATEGORIES:tkg event
END:VEVENT
END:VCALENDAR