BEGIN:VCALENDAR
VERSION:2.0
PRODID:-//Toronto Knitters Guild - ECPv6.15.20//NONSGML v1.0//EN
CALSCALE:GREGORIAN
METHOD:PUBLISH
X-WR-CALNAME:Toronto Knitters Guild
X-ORIGINAL-URL:https://torontoknittersguild.ca
X-WR-CALDESC:Events for Toronto Knitters Guild
REFRESH-INTERVAL;VALUE=DURATION:PT1H
X-Robots-Tag:noindex
X-PUBLISHED-TTL:PT1H
BEGIN:VTIMEZONE
TZID:America/Toronto
BEGIN:DAYLIGHT
TZOFFSETFROM:-0500
TZOFFSETTO:-0400
TZNAME:EDT
DTSTART:20130310T070000
END:DAYLIGHT
BEGIN:STANDARD
TZOFFSETFROM:-0400
TZOFFSETTO:-0500
TZNAME:EST
DTSTART:20131103T060000
END:STANDARD
BEGIN:DAYLIGHT
TZOFFSETFROM:-0500
TZOFFSETTO:-0400
TZNAME:EDT
DTSTART:20140309T070000
END:DAYLIGHT
BEGIN:STANDARD
TZOFFSETFROM:-0400
TZOFFSETTO:-0500
TZNAME:EST
DTSTART:20141102T060000
END:STANDARD
BEGIN:DAYLIGHT
TZOFFSETFROM:-0500
TZOFFSETTO:-0400
TZNAME:EDT
DTSTART:20150308T070000
END:DAYLIGHT
BEGIN:STANDARD
TZOFFSETFROM:-0400
TZOFFSETTO:-0500
TZNAME:EST
DTSTART:20151101T060000
END:STANDARD
END:VTIMEZONE
BEGIN:VEVENT
DTSTART;TZID=America/Toronto:20140917T193000
DTEND;TZID=America/Toronto:20140917T213000
DTSTAMP:20260421T133643
CREATED:20140922T001745Z
LAST-MODIFIED:20150222T011908Z
UID:179-1410982200-1410989400@torontoknittersguild.ca
SUMMARY:September - Marg Yamanaka
DESCRIPTION:BeadFX\nOn September 17th we will hear from Marg Yamanaka of BeadFx. Marg is very experienced in all aspects of beading including knitted jewelry and many other types of jewelry. She will describe her business and show us how to use beads to make wonderful handmade creations.
URL:https://torontoknittersguild.ca/event/september2014/
CATEGORIES:monthly meeting
END:VEVENT
END:VCALENDAR